BEGIN:VCALENDAR
VERSION:2.0
PRODID:-//Sport New - ECPv6.0.0.1//NONSGML v1.0//EN
CALSCALE:GREGORIAN
METHOD:PUBLISH
X-WR-CALNAME:Sport New
X-ORIGINAL-URL:http://sport-new.cz
X-WR-CALDESC:Akce na Sport New
REFRESH-INTERVAL;VALUE=DURATION:PT1H
X-Robots-Tag:noindex
X-PUBLISHED-TTL:PT1H
BEGIN:VTIMEZONE
TZID:Europe/Paris
BEGIN:DAYLIGHT
TZOFFSETFROM:+0100
TZOFFSETTO:+0200
TZNAME:CEST
DTSTART:20160327T010000
END:DAYLIGHT
BEGIN:STANDARD
TZOFFSETFROM:+0200
TZOFFSETTO:+0100
TZNAME:CET
DTSTART:20161030T010000
END:STANDARD
END:VTIMEZONE
BEGIN:VEVENT
DTSTART;TZID=Europe/Paris:20161111T204500
DTEND;TZID=Europe/Paris:20161111T230000
DTSTAMP:20260420T053226
CREATED:20160930T120220Z
LAST-MODIFIED:20161110T122046Z
UID:5919-1478897100-1478905200@sport-new.cz
SUMMARY:Česká republika - Norsko
DESCRIPTION:Kvalifikace na Mistrovství světa ve fotbale 2018\nČeská republika – Norsko \n\n\nPraha – Eden\n\nPátek 11.11. 2016\n20:45 hod\n\nKompletní rozpis zápasů naší reprezentace je zde: Program českých fotbalistů v kvalifikaci o MS 2018 \nLíbil se vám tento článek? Díky za sdílení.FacebookemailTwitter
URL:http://sport-new.cz/event/ceska-republika-norsko/
LOCATION:Praha\, Česká republika
CATEGORIES:Fotbal
ATTACH;FMTTYPE=image/jpeg:http://sport-new.cz/wp-content/uploads/2016/09/Česká-republika-Severní-Irsko-3.jpg
END:VEVENT
BEGIN:VEVENT
DTSTART;TZID=Europe/Paris:20161011T204500
DTEND;TZID=Europe/Paris:20161011T230000
DTSTAMP:20260420T053226
CREATED:20160930T115213Z
LAST-MODIFIED:20160930T115551Z
UID:5913-1476218700-1476226800@sport-new.cz
SUMMARY:Česká republika - Ázerbájdžán
DESCRIPTION:Kvalifikace na Mistrovství světa ve fotbale 2018\nČeská republika – Ázerbájdžán \n\nOstrava ( Vítkovice )\nÚterý 11. 10. 2016\n20:45 hod\n\nKompletní rozpis zápasů naší reprezentace je zde: Program českých fotbalistů v kvalifikaci o MS 2018 \n  \n \n\n\n\n \nLíbil se vám tento článek? Díky za sdílení.FacebookemailTwitter
URL:http://sport-new.cz/event/ceska-republika-azerbajdzan/
LOCATION:Ostrava\, Ostrava\, Česká republika
CATEGORIES:Fotbal
ATTACH;FMTTYPE=image/jpeg:http://sport-new.cz/wp-content/uploads/2016/09/Česká-republika-Severní-Irsko-2.jpg
END:VEVENT
END:VCALENDAR